BEGIN:VCALENDAR
VERSION:2.0
PRODID:-//Claremont RSL - ECPv4.8.0.1//NONSGML v1.0//EN
CALSCALE:GREGORIAN
METHOD:PUBLISH
X-WR-CALNAME:Claremont RSL
X-ORIGINAL-URL:http://claremontrsl.org.au
X-WR-CALDESC:Events for Claremont RSL
BEGIN:VEVENT
DTSTART;TZID=Australia/Hobart:20181206T180000
DTEND;TZID=Australia/Hobart:20181206T200000
DTSTAMP:20190301T103609
CREATED:20181203T221445Z
LAST-MODIFIED:20181203T221445Z
UID:1454-1544119200-1544126400@claremontrsl.org.au
SUMMARY:Thursday Night Menu
DESCRIPTION:
URL:http://claremontrsl.org.au/index.php/event/thursday-night-menu-9/
ATTACH;FMTTYPE=image/jpeg:http://claremontrsl.org.au/wp-content/uploads/2018/12/6TH-DECEMBER.jpg
END:VEVENT
END:VCALENDAR