BEGIN:VCALENDAR
VERSION:2.0
PRODID:-//Claremont RSL - ECPv4.8.0.1//NONSGML v1.0//EN
CALSCALE:GREGORIAN
METHOD:PUBLISH
X-WR-CALNAME:Claremont RSL
X-ORIGINAL-URL:http://claremontrsl.org.au
X-WR-CALDESC:Events for Claremont RSL
BEGIN:VEVENT
DTSTART;TZID=Australia/Hobart:20181116T120000
DTEND;TZID=Australia/Hobart:20181116T140000
DTSTAMP:20190301T105503
CREATED:20181113T000631Z
LAST-MODIFIED:20181113T000631Z
UID:1431-1542369600-1542376800@claremontrsl.org.au
SUMMARY:Friday Lunch
DESCRIPTION:
URL:http://claremontrsl.org.au/index.php/event/friday-lunch-9/
ATTACH;FMTTYPE=image/jpeg:http://claremontrsl.org.au/wp-content/uploads/2018/10/Friday-Lunch.jpg
END:VEVENT
END:VCALENDAR