BEGIN:VCALENDAR
VERSION:2.0
PRODID:-//Claremont RSL - ECPv4.8.0.1//NONSGML v1.0//EN
CALSCALE:GREGORIAN
METHOD:PUBLISH
X-WR-CALNAME:Claremont RSL
X-ORIGINAL-URL:http://claremontrsl.org.au
X-WR-CALDESC:Events for Claremont RSL
BEGIN:VEVENT
DTSTART;TZID=Australia/Hobart:20181108T180000
DTEND;TZID=Australia/Hobart:20181108T200000
DTSTAMP:20190301T105256
CREATED:20181105T021406Z
LAST-MODIFIED:20181105T021406Z
UID:1413-1541700000-1541707200@claremontrsl.org.au
SUMMARY:Thursday Night Menu
DESCRIPTION:
URL:http://claremontrsl.org.au/index.php/event/thursday-night-menu-6/
ATTACH;FMTTYPE=image/jpeg:http://claremontrsl.org.au/wp-content/uploads/2018/11/THURSDAY-8TH-NOVEMBER.jpg
END:VEVENT
END:VCALENDAR