BEGIN:VCALENDAR
VERSION:2.0
PRODID:-//Claremont RSL - ECPv4.8.0.1//NONSGML v1.0//EN
CALSCALE:GREGORIAN
METHOD:PUBLISH
X-WR-CALNAME:Claremont RSL
X-ORIGINAL-URL:http://claremontrsl.org.au
X-WR-CALDESC:Events for Claremont RSL
BEGIN:VEVENT
DTSTART;TZID=Australia/Hobart:20181010T180000
DTEND;TZID=Australia/Hobart:20181010T200000
DTSTAMP:20190301T111222
CREATED:20181009T032650Z
LAST-MODIFIED:20181009T032650Z
UID:1369-1539194400-1539201600@claremontrsl.org.au
SUMMARY:Wednesday Night Bar
DESCRIPTION:
URL:http://claremontrsl.org.au/index.php/event/wednesday-night-bar-4/
END:VEVENT
END:VCALENDAR