BEGIN:VCALENDAR
VERSION:2.0
PRODID:-//Claremont RSL - ECPv4.8.0.1//NONSGML v1.0//EN
CALSCALE:GREGORIAN
METHOD:PUBLISH
X-WR-CALNAME:Claremont RSL
X-ORIGINAL-URL:http://claremontrsl.org.au
X-WR-CALDESC:Events for Claremont RSL
BEGIN:VEVENT
DTSTART;TZID=Australia/Hobart:20181207T180000
DTEND;TZID=Australia/Hobart:20181207T200000
DTSTAMP:20190301T103710
CREATED:20181203T030346Z
LAST-MODIFIED:20181203T030346Z
UID:1452-1544205600-1544212800@claremontrsl.org.au
SUMMARY:Friday Lunch
DESCRIPTION:
URL:http://claremontrsl.org.au/index.php/event/friday-lunch-11/
ATTACH;FMTTYPE=image/jpeg:http://claremontrsl.org.au/wp-content/uploads/2018/11/FRIDAY-LUNCH.jpg
END:VEVENT
END:VCALENDAR